BEGIN:VCALENDAR
VERSION:2.0
PRODID:spatie/icalendar-generator
DESCRIPTION:Events from Allendale Charter Township
X-WR-CALDESC:Events from Allendale Charter Township
REFRESH-INTERVAL;VALUE=DURATION:PT1440M
X-PUBLISHED-TTL:PT1440M
BEGIN:VTIMEZONE
TZID:America/Detroit
BEGIN:STANDARD
DTSTART:20251102T020000Z
TZOFFSETFROM:-0400
TZOFFSETTO:-0500
END:STANDARD
BEGIN:DAYLIGHT
DTSTART:20260308T020000Z
TZOFFSETFROM:-0500
TZOFFSETTO:-0400
END:DAYLIGHT
END:VTIMEZONE
BEGIN:VTIMEZONE
TZID:UTC
BEGIN:STANDARD
DTSTART:20250727T083054Z
TZOFFSETFROM:+0000
TZOFFSETTO:+0000
END:STANDARD
END:VTIMEZONE
BEGIN:VEVENT
UID:31-31
DTSTAMP:20260423T083054Z
SUMMARY:Township Board Meeting
LOCATION:
ORGANIZER;CN=stgadmin:MAILTO:wordpress@shumakergrouup.com
DTSTART;TZID=America/Detroit:20251222T080000
DTEND;TZID=America/Detroit:20251222T090000
X-ALT-DESC;FMTTYPE=TEXT/HTML:
CATEGORIES:General
URL;VALUE=URI:https://allendalemi.gov/mc-events/township-board-meeting-26/
METHOD:PUBLISH
END:VEVENT
END:VCALENDAR